BEGIN:VCALENDAR
VERSION:2.0
PRODID:-//The Lexington Club - ECPv6.15.20//NONSGML v1.0//EN
CALSCALE:GREGORIAN
METHOD:PUBLISH
X-WR-CALNAME:The Lexington Club
X-ORIGINAL-URL:https://thelexingtonclub.net
X-WR-CALDESC:Events for The Lexington Club
REFRESH-INTERVAL;VALUE=DURATION:PT1H
X-Robots-Tag:noindex
X-PUBLISHED-TTL:PT1H
BEGIN:VTIMEZONE
TZID:UTC
BEGIN:STANDARD
TZOFFSETFROM:+0000
TZOFFSETTO:+0000
TZNAME:UTC
DTSTART:20250101T000000
END:STANDARD
END:VTIMEZONE
BEGIN:VEVENT
DTSTART;TZID=UTC:20260312T180000
DTEND;TZID=UTC:20260312T220000
DTSTAMP:20260423T203423
CREATED:20240807T134507Z
LAST-MODIFIED:20260218T232324Z
UID:544-1773338400-1773352800@thelexingtonclub.net
SUMMARY:All Things Considered/Russell’s Tasting Party
DESCRIPTION:The Board of Governors is pleased to invite you to the All Things Considered / BourbonTasting Event\, an evening celebrating Kentucky bourbon and its enduring legacy\, featuring\nBruce Russell\, Brand Ambassador for Wild Turkey\, and Eric Gregory\, President of the\nKentucky Distillers’ Association. \nAs the son and grandson of Wild Turkey royalty\, Bruce will share the storied history of the Wild Turkey Distillery\, whose roots date back to 1860. Through personal anecdotes and behind-the-scenes insights\, he will guide members through a curated tasting that includes the Club’s fifth private barrel selection from Russell’s Reserve\, along with additional Russell’s expressions. \nOur exclusive barrel was distilled on January 25\, 2017\, bottled on July 15\, 2025\, and presented at 110 proof. \nEric Gregory will offer an engaging overview of the current state of Kentucky’s bourbon\nindustry\, discussing its economic strength and its cultural and social impact both locally and\naround the world. \nChef Jason will complement the evening with thoughtfully prepared hors d’oeuvres designed to enhance the tasting experience. \nDate: Thursday\, March 12\nTime: 6:30 PM\nCapacity: Limited\nCost: $50 per person\nPrivate Barrel Bottle Reservation: $95 (limit one bottle per member)\nQuantity Available: 140 bottles \nTo RSVP for the event and/or reserve a bottle\, please email Gerrese at gerrese@thelexingtonclub.net. Reserved bottles will be available for pickup the evening of the event. \nWith the continued popularity of premium bourbon and the limited nature of this private selection\, we anticipate strong interest and encourage members to respond early. \nCheers\, \nThe Board of Governors \n \n 
URL:https://thelexingtonclub.net/event/all-things-considered-with-coach-nick-mingione/
LOCATION:The Lexington Club\, 170 Esplanade\, Lexington\, KY\, 40507\, United States
ORGANIZER;CN="The Lexington Club":MAILTO:info@lexington-club.com
END:VEVENT
END:VCALENDAR