BEGIN:VCALENDAR
VERSION:2.0
PRODID:-//The Lexington Club - ECPv6.15.20//NONSGML v1.0//EN
CALSCALE:GREGORIAN
METHOD:PUBLISH
X-WR-CALNAME:The Lexington Club
X-ORIGINAL-URL:https://thelexingtonclub.net
X-WR-CALDESC:Events for The Lexington Club
REFRESH-INTERVAL;VALUE=DURATION:PT1H
X-Robots-Tag:noindex
X-PUBLISHED-TTL:PT1H
BEGIN:VTIMEZONE
TZID:UTC
BEGIN:STANDARD
TZOFFSETFROM:+0000
TZOFFSETTO:+0000
TZNAME:UTC
DTSTART:20250101T000000
END:STANDARD
END:VTIMEZONE
BEGIN:VEVENT
DTSTART;VALUE=DATE:20260119
DTEND;VALUE=DATE:20260120
DTSTAMP:20260423T113041
CREATED:20241204T143641Z
LAST-MODIFIED:20251215T203858Z
UID:1782-1768780800-1768867199@thelexingtonclub.net
SUMMARY:Club Closed (Martin Luther King\, Jr. Day)
DESCRIPTION:
URL:https://thelexingtonclub.net/event/club-closed-martin-luther-king-jr-day/
END:VEVENT
END:VCALENDAR