BEGIN:VCALENDAR
VERSION:2.0
PRODID:-//The Lexington Club - ECPv6.15.20//NONSGML v1.0//EN
CALSCALE:GREGORIAN
METHOD:PUBLISH
X-WR-CALNAME:The Lexington Club
X-ORIGINAL-URL:https://thelexingtonclub.net
X-WR-CALDESC:Events for The Lexington Club
REFRESH-INTERVAL;VALUE=DURATION:PT1H
X-Robots-Tag:noindex
X-PUBLISHED-TTL:PT1H
BEGIN:VTIMEZONE
TZID:UTC
BEGIN:STANDARD
TZOFFSETFROM:+0000
TZOFFSETTO:+0000
TZNAME:UTC
DTSTART:20250101T000000
END:STANDARD
END:VTIMEZONE
BEGIN:VEVENT
DTSTART;TZID=UTC:20260305T180000
DTEND;TZID=UTC:20260305T233000
DTSTAMP:20260423T173118
CREATED:20240807T134757Z
LAST-MODIFIED:20260218T225621Z
UID:547-1772733600-1772753400@thelexingtonclub.net
SUMMARY:Lobster Night
DESCRIPTION:Make plans now to join us March Thursday\, 5th for Lobster night. We will offer your choice of a twelve – ounce Lobster Tail or an eight-ounce Filet Mignon. Please note that a 1.5 lb. Live Maine Lobster will be available\, but must be pre-ordered by February 25th. Dinner includes a salad\, dessert\, and coffee or tea. Seating begins at 6:30 in the Ellis Room and at 6:00 in all other areas of the club. This event is very popular so call now to reserve your table.
URL:https://thelexingtonclub.net/event/lobster-night/
LOCATION:The Lexington Club\, 170 Esplanade\, Lexington\, KY\, 40507\, United States
ORGANIZER;CN="The Lexington Club":MAILTO:info@lexington-club.com
END:VEVENT
END:VCALENDAR