BEGIN:VCALENDAR
VERSION:2.0
PRODID:-//The Lexington Club - ECPv6.15.20//NONSGML v1.0//EN
CALSCALE:GREGORIAN
METHOD:PUBLISH
X-WR-CALNAME:The Lexington Club
X-ORIGINAL-URL:https://thelexingtonclub.net
X-WR-CALDESC:Events for The Lexington Club
REFRESH-INTERVAL;VALUE=DURATION:PT1H
X-Robots-Tag:noindex
X-PUBLISHED-TTL:PT1H
BEGIN:VTIMEZONE
TZID:UTC
BEGIN:STANDARD
TZOFFSETFROM:+0000
TZOFFSETTO:+0000
TZNAME:UTC
DTSTART:20250101T000000
END:STANDARD
END:VTIMEZONE
BEGIN:VEVENT
DTSTART;TZID=UTC:20260216T173000
DTEND;TZID=UTC:20260216T220000
DTSTAMP:20260423T144247
CREATED:20250424T185614Z
LAST-MODIFIED:20260107T173359Z
UID:2502-1771263000-1771279200@thelexingtonclub.net
SUMMARY:Trivia
DESCRIPTION:If you missed the last Trivia night at the Lexington Club\, come out and join us for trivia it will be\na night to remember. Groups of 4 – 6. Prizes to the winners. \n 
URL:https://thelexingtonclub.net/event/music-trivia/
END:VEVENT
END:VCALENDAR