BEGIN:VCALENDAR
VERSION:2.0
PRODID:-//The Lexington Club - ECPv6.15.20//NONSGML v1.0//EN
CALSCALE:GREGORIAN
METHOD:PUBLISH
X-WR-CALNAME:The Lexington Club
X-ORIGINAL-URL:https://thelexingtonclub.net
X-WR-CALDESC:Events for The Lexington Club
REFRESH-INTERVAL;VALUE=DURATION:PT1H
X-Robots-Tag:noindex
X-PUBLISHED-TTL:PT1H
BEGIN:VTIMEZONE
TZID:UTC
BEGIN:STANDARD
TZOFFSETFROM:+0000
TZOFFSETTO:+0000
TZNAME:UTC
DTSTART:20250101T000000
END:STANDARD
END:VTIMEZONE
BEGIN:VEVENT
DTSTART;TZID=UTC:20260316T080000
DTEND;TZID=UTC:20260322T170000
DTSTAMP:20260423T221904
CREATED:20250303T223604Z
LAST-MODIFIED:20260318T214035Z
UID:2453-1773648000-1774198800@thelexingtonclub.net
SUMMARY:St. Patrick’s Day
DESCRIPTION:Help us Celebrate \n🍀 St. Patrick’s Day Specials all week at The Lexington Club! 🍀 \n. Corned Beef and Cabbage\, Irish Soda Bread\, and an Irish Brownie for dessert! The full menus will be\navailable\, featuring our Irish specialties.
URL:https://thelexingtonclub.net/event/st-patricks-day/
END:VEVENT
END:VCALENDAR