BEGIN:VCALENDAR
VERSION:2.0
PRODID:-//The Lexington Club - ECPv6.15.20//NONSGML v1.0//EN
CALSCALE:GREGORIAN
METHOD:PUBLISH
X-WR-CALNAME:The Lexington Club
X-ORIGINAL-URL:https://thelexingtonclub.net
X-WR-CALDESC:Events for The Lexington Club
REFRESH-INTERVAL;VALUE=DURATION:PT1H
X-Robots-Tag:noindex
X-PUBLISHED-TTL:PT1H
BEGIN:VTIMEZONE
TZID:UTC
BEGIN:STANDARD
TZOFFSETFROM:+0000
TZOFFSETTO:+0000
TZNAME:UTC
DTSTART:20250101T000000
END:STANDARD
END:VTIMEZONE
BEGIN:VEVENT
DTSTART;TZID=UTC:20260118T080000
DTEND;TZID=UTC:20260118T140000
DTSTAMP:20260423T101327
CREATED:20240807T134836Z
LAST-MODIFIED:20260112T181414Z
UID:549-1768723200-1768744800@thelexingtonclub.net
SUMMARY:Sunday Brunch
DESCRIPTION:Please join us for Sunday Brunch\, Sunday\, January 18th. We will be offering an ala carte menu from 11-2 as well as bottomless Bloody Mary’s\, Screwdrivers\, Mimosas\, and Seasonal Cocktail for $20. \n 
URL:https://thelexingtonclub.net/event/sunday-brunch/
LOCATION:The Lexington Club\, 170 Esplanade\, Lexington\, KY\, 40507\, United States
ORGANIZER;CN="The Lexington Club":MAILTO:info@lexington-club.com
END:VEVENT
END:VCALENDAR